BEGIN:VCALENDAR
VERSION:2.0
PRODID:-//CZECH-IN Film Festival - Distribution des films tchèques et slovaques en France - ECPv6.15.11//NONSGML v1.0//EN
CALSCALE:GREGORIAN
METHOD:PUBLISH
X-WR-CALNAME:CZECH-IN Film Festival - Distribution des films tchèques et slovaques en France
X-ORIGINAL-URL:https://czech-in-film-festival.fr
X-WR-CALDESC:Évènements pour CZECH-IN Film Festival - Distribution des films tchèques et slovaques en France
REFRESH-INTERVAL;VALUE=DURATION:PT1H
X-Robots-Tag:noindex
X-PUBLISHED-TTL:PT1H
BEGIN:VTIMEZONE
TZID:Europe/Paris
BEGIN:DAYLIGHT
TZOFFSETFROM:+0100
TZOFFSETTO:+0200
TZNAME:CEST
DTSTART:20250330T010000
END:DAYLIGHT
BEGIN:STANDARD
TZOFFSETFROM:+0200
TZOFFSETTO:+0100
TZNAME:CET
DTSTART:20251026T010000
END:STANDARD
BEGIN:DAYLIGHT
TZOFFSETFROM:+0100
TZOFFSETTO:+0200
TZNAME:CEST
DTSTART:20260329T010000
END:DAYLIGHT
BEGIN:STANDARD
TZOFFSETFROM:+0200
TZOFFSETTO:+0100
TZNAME:CET
DTSTART:20261025T010000
END:STANDARD
BEGIN:DAYLIGHT
TZOFFSETFROM:+0100
TZOFFSETTO:+0200
TZNAME:CEST
DTSTART:20270328T010000
END:DAYLIGHT
BEGIN:STANDARD
TZOFFSETFROM:+0200
TZOFFSETTO:+0100
TZNAME:CET
DTSTART:20271031T010000
END:STANDARD
END:VTIMEZONE
BEGIN:VEVENT
DTSTART;TZID=Europe/Paris:20260422T193000
DTEND;TZID=Europe/Paris:20260422T220000
DTSTAMP:20260422T030711
CREATED:20260414T203738Z
LAST-MODIFIED:20260414T203738Z
UID:7376-1776886200-1776895200@czech-in-film-festival.fr
SUMMARY:avant-première Caravane à Paris\, Les Sept Parnassiens
DESCRIPTION:en présence de la réalisatrice\, Zuzana Kirchnerova\n\n\n\nMercredi 22 avril à 19h30 à Paris\, Les Sept Parnassiens \nCaravane
URL:https://czech-in-film-festival.fr/event/avant-premiere-caravane-a-paris-les-sept-parnassiens/
END:VEVENT
END:VCALENDAR